BEGIN:VCALENDAR
VERSION:2.0
PRODID:-//https://calenda-formation.labocleo.org
X-WR-CALNAME:Calenda
X-WR-TIMEZONE:Europe/Paris
CALSCALE:GREGORIAN
X-WR-CALDESC:O calendário de letras e de ciências sociais e humanas
METHOD:PUBLISH
BEGIN:VEVENT
DTSTART;VALUE=DATE:20200715
DTEND;VALUE=DATE:20200716
UID:783706-20200715@calenda.revues.org
SUMMARY:Lexicographic Studies of Arts
URL:https://calenda-formation.labocleo.org/783706
DESCRIPTION:This panel aims to bring together coordinators of digital projects - completed or in progress - around the lexicon and the scientific edition of texts of artistic or technical literature\, with researchers who have adopted this terminological approach… @plus_info https://calenda-formation.labocleo.org/783706
LOCATION:Dublin
END:VEVENT
END:VCALENDAR
