BEGIN:VCALENDAR
VERSION:2.0
PRODID:-//https://calenda-formation.labocleo.org
X-WR-CALNAME:Calenda
X-WR-TIMEZONE:Europe/Paris
CALSCALE:GREGORIAN
X-WR-CALDESC:The calendar for arts, humanities and social sciences
METHOD:PUBLISH
BEGIN:VEVENT
DTSTART;VALUE=DATE:20200810
DTEND;VALUE=DATE:20200811
UID:784698-20200810@calenda.revues.org
SUMMARY:Expanding the field of crime fiction: the mafia and transmedia
URL:https://calenda-formation.labocleo.org/784698
DESCRIPTION:Ce colloque souhaite explorer l'actuel écosystème transmédiatique afin de privilégier l'analyse des modalités de création\, de production\, de diffusion et de réception dans de multiples médias d'œuvres de fiction ayant en partage la représentation de … @plus_info https://calenda-formation.labocleo.org/784698
LOCATION:Nice
END:VEVENT
END:VCALENDAR
