BEGIN:VCALENDAR
VERSION:2.0
PRODID:-//https://calenda-formation.labocleo.org
X-WR-CALNAME:Calenda
X-WR-TIMEZONE:Europe/Paris
CALSCALE:GREGORIAN
X-WR-CALDESC:Le calendrier des lettres et sciences humaines et sociales
METHOD:PUBLISH
BEGIN:VEVENT
DTSTART;VALUE=DATE:20200715
DTEND;VALUE=DATE:20200716
UID:785793-20200715@calenda.revues.org
SUMMARY:Claude-Nicolas Ledoux (1736-1806). Édition numérique de « L'architecture considérée sous le rapport de l'art\, des mœurs et de la législation »
URL:https://calenda-formation.labocleo.org/785793
DESCRIPTION:Le labex « Les passés dans le présent » et l’université Paris Lumières lancent un appel à candidature pour un contrat doctoral fléché sur un projet de recherche s'inscrivant dans le programme scientifique 2020-2024 : « Ledoux ». Ce projet consiste en… Más informaciones https://calenda-formation.labocleo.org/785793
LOCATION:París
END:VEVENT
END:VCALENDAR
