BEGIN:VCALENDAR
VERSION:2.0
PRODID:-//https://calenda-formation.labocleo.org
X-WR-CALNAME:Calenda
X-WR-TIMEZONE:Europe/Paris
CALSCALE:GREGORIAN
X-WR-CALDESC:O calendário de letras e de ciências sociais e humanas
METHOD:PUBLISH
BEGIN:VEVENT
DTSTART;VALUE=DATE:20200911
DTEND;VALUE=DATE:20200912
UID:787328-20200911@calenda.revues.org
SUMMARY:Migrations et environnement : approches sociologiques et juridiques
URL:https://calenda-formation.labocleo.org/787328
DESCRIPTION:Le thème des migrations environnementales ou climatiques est aujourd’hui de plus en plus débattu dans les organisations internationales\, la société civile et dans le champ académique. Comme l’écrivait F. Gemenne en 2010\, « Les rapports entre environn… @plus_info https://calenda-formation.labocleo.org/787328
LOCATION:Nice
END:VEVENT
END:VCALENDAR
