BEGIN:VCALENDAR
VERSION:2.0
PRODID:-//https://calenda-formation.labocleo.org
X-WR-CALNAME:Calenda
X-WR-TIMEZONE:Europe/Paris
CALSCALE:GREGORIAN
X-WR-CALDESC:O calendário de letras e de ciências sociais e humanas
METHOD:PUBLISH
BEGIN:VEVENT
DTSTART;VALUE=DATE:20210115
DTEND;VALUE=DATE:20210116
UID:788538-20210115@calenda.revues.org
SUMMARY:La francophonie en débat
URL:https://calenda-formation.labocleo.org/788538
DESCRIPTION:Le prix Richard Mille - Centre suisse d'études sur le Québec et la francophonie (CEQF) intitulé « La francophonie en débat » a pour but de soutenir la production et la diffusion d'œuvres en langue française\, artistiques ou académiques\, de jeunes arti… @plus_info https://calenda-formation.labocleo.org/788538
LOCATION:
END:VEVENT
END:VCALENDAR
