BEGIN:VCALENDAR
VERSION:2.0
PRODID:-//https://calenda-formation.labocleo.org
X-WR-CALNAME:Calenda
X-WR-TIMEZONE:Europe/Paris
CALSCALE:GREGORIAN
X-WR-CALDESC:The calendar for arts, humanities and social sciences
METHOD:PUBLISH
BEGIN:VEVENT
DTSTART;VALUE=DATE:20201115
DTEND;VALUE=DATE:20201116
UID:789146-20201115@calenda.revues.org
SUMMARY:The Renaissance and new brachylogy
URL:https://calenda-formation.labocleo.org/789146
DESCRIPTION:Le concept de nouvelle brachylogie est initié\, en 2012\, en référence à la pensée socratique\, essentiellement par une remise en question du statut exclusivement rhétorique de la brachylogie et par sa remise en valeur en tant que pensée et vision du mo… @plus_info https://calenda-formation.labocleo.org/789146
LOCATION:Paris 09 Opéra
END:VEVENT
END:VCALENDAR
