BEGIN:VCALENDAR
VERSION:2.0
PRODID:-//https://calenda-formation.labocleo.org
X-WR-CALNAME:Calenda
X-WR-TIMEZONE:Europe/Paris
CALSCALE:GREGORIAN
X-WR-CALDESC:The calendar for arts, humanities and social sciences
METHOD:PUBLISH
BEGIN:VEVENT
DTSTART;VALUE=DATE:20201001
DTEND;VALUE=DATE:20201002
UID:790366-20201001@calenda.revues.org
SUMMARY:The first Japanese embassy in Europe (1582-1590) and the "De missione legatorum iaponensium ad Romanam curiam"
URL:https://calenda-formation.labocleo.org/790366
DESCRIPTION:Cet appel à contribution s’inscrit dans le cadre d’un projet de traduction et d’édition critique du De missione legatorum iaponensium ad Romanam curiam. Il invite à des communications qui\, prenant nécessairement pour point de départ le De missione – … @plus_info https://calenda-formation.labocleo.org/790366
LOCATION:Montpellier
END:VEVENT
END:VCALENDAR
