BEGIN:VCALENDAR
VERSION:2.0
PRODID:-//https://calenda-formation.labocleo.org
X-WR-CALNAME:Calenda
X-WR-TIMEZONE:Europe/Paris
CALSCALE:GREGORIAN
X-WR-CALDESC:The calendar for arts, humanities and social sciences
METHOD:PUBLISH
BEGIN:VEVENT
DTSTART;VALUE=DATE:20200930
DTEND;VALUE=DATE:20201001
UID:791876-20200930@calenda.revues.org
SUMMARY:Images of work and syndicalism
URL:https://calenda-formation.labocleo.org/791876
DESCRIPTION:Tout au long de son histoire\, ancienne ou récente\, le syndicalisme\, qu'il soit salarié\, agricole\, étudiant ou patronal\, catégoriel ou interprofessionnel\, local\, national ou international... a généré\, conçu mais aussi diffusé des images du travail en … @plus_info https://calenda-formation.labocleo.org/791876
LOCATION:
END:VEVENT
END:VCALENDAR
