BEGIN:VCALENDAR
VERSION:2.0
PRODID:-//https://calenda-formation.labocleo.org
X-WR-CALNAME:Calenda
X-WR-TIMEZONE:Europe/Paris
CALSCALE:GREGORIAN
X-WR-CALDESC:Le calendrier des lettres et sciences humaines et sociales
METHOD:PUBLISH
BEGIN:VEVENT
DTSTART;VALUE=DATE:20201001
DTEND;VALUE=DATE:20201002
UID:791971-20201001@calenda.revues.org
SUMMARY:Les normes interrogées par le handicap
URL:https://calenda-formation.labocleo.org/791971
DESCRIPTION:Cette neuvième conférence propose d’interroger la construction de la normalité et\, plus globalement\, le système de pensée qui structure nos sociétés\, selon lequel être « valide » serait la norme\, au double sens de la situation la plus répandue et la … Weitere Informationen https://calenda-formation.labocleo.org/791971
LOCATION:Rennes
END:VEVENT
END:VCALENDAR
