BEGIN:VCALENDAR
VERSION:2.0
PRODID:-//https://calenda-formation.labocleo.org
X-WR-CALNAME:Calenda
X-WR-TIMEZONE:Europe/Paris
CALSCALE:GREGORIAN
X-WR-CALDESC:Le calendrier des lettres et sciences humaines et sociales
METHOD:PUBLISH
BEGIN:VEVENT
DTSTART;VALUE=DATE:20201031
DTEND;VALUE=DATE:20201101
UID:792727-20201031@calenda.revues.org
SUMMARY:Teaching and learning of classical languages
URL:https://calenda-formation.labocleo.org/792727
DESCRIPTION:With the aim of encouraging the exchange of ideas\, experiences\, progress and proposals\, the Journal Forma y Funcion invites classicists to submit full research articles dealing with the teaching and learning of classical languages. We believe that th… Weitere Informationen https://calenda-formation.labocleo.org/792727
LOCATION:Bogotá
END:VEVENT
END:VCALENDAR
