BEGIN:VCALENDAR
VERSION:2.0
PRODID:-//https://calenda-formation.labocleo.org
X-WR-CALNAME:Calenda
X-WR-TIMEZONE:Europe/Paris
CALSCALE:GREGORIAN
X-WR-CALDESC:The calendar for arts, humanities and social sciences
METHOD:PUBLISH
BEGIN:VEVENT
DTSTART;VALUE=DATE:20201022
DTEND;VALUE=DATE:20201023
UID:794394-20201022@calenda.revues.org
SUMMARY:Work and workers in the Maghreb (19th-21st centuries)
URL:https://calenda-formation.labocleo.org/794394
DESCRIPTION:Cette journée d’étude a pour ambition de réunir des chercheuses et des chercheurs en sciences sociales s’intéressant à la question du travail dans le Maghreb du XIXe au XXIe siècle. Malgré le renouvellement stimulant des approches sur les sociétés co… @plus_info https://calenda-formation.labocleo.org/794394
LOCATION:Paris
END:VEVENT
END:VCALENDAR
