BEGIN:VCALENDAR
VERSION:2.0
PRODID:-//https://calenda-formation.labocleo.org
X-WR-CALNAME:Calenda
X-WR-TIMEZONE:Europe/Paris
CALSCALE:GREGORIAN
X-WR-CALDESC:O calendário de letras e de ciências sociais e humanas
METHOD:PUBLISH
BEGIN:VEVENT
DTSTART;VALUE=DATE:20200930
DTEND;VALUE=DATE:20201001
UID:797268-20200930@calenda.revues.org
SUMMARY:Films en miroir
URL:https://calenda-formation.labocleo.org/797268
DESCRIPTION:Ce numéro de la revue Ebisu. Études japonaises se propose de repenser les quarante dernières années du cinéma japonais\, selon plusieurs axes : industriel\, esthétique\, thématique et théorique. L’histoire du cinéma au Japon reste polarisée par deux « â… @plus_info https://calenda-formation.labocleo.org/797268
LOCATION:Tóquio
END:VEVENT
END:VCALENDAR
