BEGIN:VCALENDAR
VERSION:2.0
PRODID:-//https://calenda-formation.labocleo.org
X-WR-CALNAME:Calenda
X-WR-TIMEZONE:Europe/Paris
CALSCALE:GREGORIAN
X-WR-CALDESC:Le calendrier des lettres et sciences humaines et sociales
METHOD:PUBLISH
BEGIN:VEVENT
DTSTART;VALUE=DATE:20200918
DTEND;VALUE=DATE:20200919
UID:797826-20200918@calenda.revues.org
SUMMARY:Histoire mondiale des actualités filmées pendant la seconde moitié du XXe siècle
URL:https://calenda-formation.labocleo.org/797826
DESCRIPTION:Cette journée d’études a pour objet de faire un bilan sur l’histoire des actualités cinématographiques dans le monde pendant la seconde moitié du XXe siècle. Elle est associée au projet ANTRACT consacré à l’analyse transdisciplinaire des journaux de … Weitere Informationen https://calenda-formation.labocleo.org/797826
LOCATION:Aubervilliers
END:VEVENT
END:VCALENDAR
