BEGIN:VCALENDAR
VERSION:2.0
PRODID:-//https://calenda-formation.labocleo.org
X-WR-CALNAME:Calenda
X-WR-TIMEZONE:Europe/Paris
CALSCALE:GREGORIAN
X-WR-CALDESC:Le calendrier des lettres et sciences humaines et sociales
METHOD:PUBLISH
BEGIN:VEVENT
DTSTART;VALUE=DATE:20201215
DTEND;VALUE=DATE:20201216
UID:798643-20201215@calenda.revues.org
SUMMARY:La chanson : approches littéraires
URL:https://calenda-formation.labocleo.org/798643
DESCRIPTION:Qu’on étudie sa présence au sein d’autres textes\, ou qu’on la considère comme un genre littéraire à part entière\, la chanson est actuellement un objet d’étude particulièrement fertile. Les approches monographiques ou transversales de la chanson sont … Weitere Informationen https://calenda-formation.labocleo.org/798643
LOCATION:Edmonton
END:VEVENT
END:VCALENDAR
