BEGIN:VCALENDAR
VERSION:2.0
PRODID:-//https://calenda-formation.labocleo.org
X-WR-CALNAME:Calenda
X-WR-TIMEZONE:Europe/Paris
CALSCALE:GREGORIAN
X-WR-CALDESC:Le calendrier des lettres et sciences humaines et sociales
METHOD:PUBLISH
BEGIN:VEVENT
DTSTART;VALUE=DATE:20210215
DTEND;VALUE=DATE:20210216
UID:799086-20210215@calenda.revues.org
SUMMARY:Bioéthique et changement climatique 
URL:https://calenda-formation.labocleo.org/799086
DESCRIPTION:Comme les précédentes conférences\, ce VIIe forum franco latino-américain de bioéthique vise à promouvoir une approche comparative intégrée des questions en discussion\, adoptant la méthodologie des sciences sociales pour donner une analyse critique du… Weitere Informationen https://calenda-formation.labocleo.org/799086
LOCATION:Asunción
END:VEVENT
END:VCALENDAR
