BEGIN:VCALENDAR
VERSION:2.0
PRODID:-//https://calenda-formation.labocleo.org
X-WR-CALNAME:Calenda
X-WR-TIMEZONE:Europe/Paris
CALSCALE:GREGORIAN
X-WR-CALDESC:Le calendrier des lettres et sciences humaines et sociales
METHOD:PUBLISH
BEGIN:VEVENT
DTSTART;VALUE=DATE:20201101
DTEND;VALUE=DATE:20201102
UID:799236-20201101@calenda.revues.org
SUMMARY:France 1600. Actualité de la recherche et nouvelles perspectives en histoire de l'art
URL:https://calenda-formation.labocleo.org/799236
DESCRIPTION:L'Institut national d'histoire de l'art\, en partenariat avec le musée du Louvre\, organise en mai 2021 deux journées d'études consacrées à la création artistique en France autour de 1600. Elles auront pour objectif de mettre en lumière l'actualité de … Más informaciones https://calenda-formation.labocleo.org/799236
LOCATION:París
END:VEVENT
END:VCALENDAR
