BEGIN:VCALENDAR
VERSION:2.0
PRODID:-//https://calenda-formation.labocleo.org
X-WR-CALNAME:Calenda
X-WR-TIMEZONE:Europe/Paris
CALSCALE:GREGORIAN
X-WR-CALDESC:Le calendrier des lettres et sciences humaines et sociales
METHOD:PUBLISH
BEGIN:VEVENT
DTSTART;VALUE=DATE:20201130
DTEND;VALUE=DATE:20201201
UID:800813-20201130@calenda.revues.org
SUMMARY:Activismes et esthétiques queer dans les littératures africaines
URL:https://calenda-formation.labocleo.org/800813
DESCRIPTION:Ce congrès propose une exploration des littératures\, du cinéma et des arts performatifs africains de toutes les langues et de toutes les régions d’Afrique y compris le Maghreb et les diasporas\, au prisme des théories\, activismes et esthétiques queer.… Weitere Informationen https://calenda-formation.labocleo.org/800813
LOCATION:Berlin
END:VEVENT
END:VCALENDAR
