BEGIN:VCALENDAR
VERSION:2.0
PRODID:-//https://calenda-formation.labocleo.org
X-WR-CALNAME:Calenda
X-WR-TIMEZONE:Europe/Paris
CALSCALE:GREGORIAN
X-WR-CALDESC:The calendar for arts, humanities and social sciences
METHOD:PUBLISH
BEGIN:VEVENT
DTSTART;VALUE=DATE:20201215
DTEND;VALUE=DATE:20201216
UID:801528-20201215@calenda.revues.org
SUMMARY:The literary community: humanity and writing and the issues at stake
URL:https://calenda-formation.labocleo.org/801528
DESCRIPTION:La communauté est un lieu de rencontre et de dispute\, une agora où se croisent les différences et où l’on se laisse emporter par l’attraction de terrains inconnus : elle se dessine ainsi comme l’occasion de repenser la relation entre le soi et l’autr… @plus_info https://calenda-formation.labocleo.org/801528
LOCATION:Edmonton
END:VEVENT
END:VCALENDAR
