BEGIN:VCALENDAR
VERSION:2.0
PRODID:-//https://calenda-formation.labocleo.org
X-WR-CALNAME:Calenda
X-WR-TIMEZONE:Europe/Paris
CALSCALE:GREGORIAN
X-WR-CALDESC:The calendar for arts, humanities and social sciences
METHOD:PUBLISH
BEGIN:VEVENT
DTSTART;VALUE=DATE:20201230
DTEND;VALUE=DATE:20201231
UID:802408-20201230@calenda.revues.org
SUMMARY:Humanités numériques journal - Varia
URL:https://calenda-formation.labocleo.org/802408
DESCRIPTION:Les deux premiers numéros de la revue Humanités numériques sont parus en 2020. Un numéro thématique consacré aux humanités numériques spatialisées est en préparation. Le numéro suivant\, constitué d’articles variés\, doit être publié en juin 2021. … @plus_info https://calenda-formation.labocleo.org/802408
LOCATION:
END:VEVENT
END:VCALENDAR
