BEGIN:VCALENDAR
VERSION:2.0
PRODID:-//https://calenda-formation.labocleo.org
X-WR-CALNAME:Calenda
X-WR-TIMEZONE:Europe/Paris
CALSCALE:GREGORIAN
X-WR-CALDESC:Le calendrier des lettres et sciences humaines et sociales
METHOD:PUBLISH
BEGIN:VEVENT
DTSTART;VALUE=DATE:20201104
DTEND;VALUE=DATE:20201105
UID:805926-20201104@calenda.revues.org
SUMMARY:Situations de délinquance\, parcours\, désistance
URL:https://calenda-formation.labocleo.org/805926
DESCRIPTION:En 2020\, les journées de valorisation de la recherche ambitionnent de partager avec l’ensemble des acteurs de la protection de l’enfance l’état des connaissances issues de la recherche en sciences humaines et sociales sur la place de la désistance da… Weitere Informationen https://calenda-formation.labocleo.org/805926
LOCATION:Roubaix
END:VEVENT
BEGIN:VEVENT
DTSTART;VALUE=DATE:20201105
DTEND;VALUE=DATE:20201106
UID:805926-20201105@calenda.revues.org
SUMMARY:Situations de délinquance\, parcours\, désistance
URL:https://calenda-formation.labocleo.org/805926
DESCRIPTION:En 2020\, les journées de valorisation de la recherche ambitionnent de partager avec l’ensemble des acteurs de la protection de l’enfance l’état des connaissances issues de la recherche en sciences humaines et sociales sur la place de la désistance da… Weitere Informationen https://calenda-formation.labocleo.org/805926
LOCATION:Roubaix
END:VEVENT
END:VCALENDAR
