BEGIN:VCALENDAR
VERSION:2.0
PRODID:-//https://calenda-formation.labocleo.org
X-WR-CALNAME:Calenda
X-WR-TIMEZONE:Europe/Paris
CALSCALE:GREGORIAN
X-WR-CALDESC:The calendar for arts, humanities and social sciences
METHOD:PUBLISH
BEGIN:VEVENT
DTSTART;VALUE=DATE:20201231
DTEND;VALUE=DATE:20210101
UID:806711-20201231@calenda.revues.org
SUMMARY:The French cinematic operetta\, from "Chemin du Paradis" to Mariano's grande finale (1930-1970)
URL:https://calenda-formation.labocleo.org/806711
DESCRIPTION:À l’occasion du cinquantième anniversaire de la mort de Georges Van Parys\, nous souhaitons consacrer un colloque à l’opérette cinématographique (parfois aussi appelée « opérette filmée »\, « film-opérette »\, « opérette à grand spectacle »...)\, genre d… @plus_info https://calenda-formation.labocleo.org/806711
LOCATION:Paris
END:VEVENT
END:VCALENDAR
