BEGIN:VCALENDAR
VERSION:2.0
PRODID:-//https://calenda-formation.labocleo.org
X-WR-CALNAME:Calenda
X-WR-TIMEZONE:Europe/Paris
CALSCALE:GREGORIAN
X-WR-CALDESC:The calendar for arts, humanities and social sciences
METHOD:PUBLISH
BEGIN:VEVENT
DTSTART;VALUE=DATE:20201022
DTEND;VALUE=DATE:20201023
UID:806731-20201022@calenda.revues.org
SUMMARY:The place of "Food Studies" in the Americas
URL:https://calenda-formation.labocleo.org/806731
DESCRIPTION:Cet atelier du congrès de l'Institut des Amérique souhaite favoriser un dialogue entre spécialistes de diverses aires culturelles des Amériques autour de la nourriture. Il s’attachera à mettre en lumière l’intérêt des food studies pour l’étude des Am… @plus_info https://calenda-formation.labocleo.org/806731
LOCATION:Aubervilliers
END:VEVENT
END:VCALENDAR
