BEGIN:VCALENDAR
VERSION:2.0
PRODID:-//https://calenda-formation.labocleo.org
X-WR-CALNAME:Calenda
X-WR-TIMEZONE:Europe/Paris
CALSCALE:GREGORIAN
X-WR-CALDESC:Le calendrier des lettres et sciences humaines et sociales
METHOD:PUBLISH
BEGIN:VEVENT
DTSTART;VALUE=DATE:20201201
DTEND;VALUE=DATE:20201202
UID:811996-20201201@calenda.revues.org
SUMMARY:Archives en mouvement : les vingt ans du Collectif des centres de documentation en histoire ouvrière et sociale (CODHOS) 
URL:https://calenda-formation.labocleo.org/811996
DESCRIPTION:À l'occasion de son vingtième anniversaire\, le Collectif des centres de documentation en histoire ouvrière et sociale (CODHOS)\, dont les membres vivent et accompagnent au quotidien ces bouleversements\, organise deux journées d’études pluridisciplinai… Weitere Informationen https://calenda-formation.labocleo.org/811996
LOCATION:Aubervilliers
END:VEVENT
END:VCALENDAR
