BEGIN:VCALENDAR
VERSION:2.0
PRODID:-//https://calenda-formation.labocleo.org
X-WR-CALNAME:Calenda
X-WR-TIMEZONE:Europe/Paris
CALSCALE:GREGORIAN
X-WR-CALDESC:Le calendrier des lettres et sciences humaines et sociales
METHOD:PUBLISH
BEGIN:VEVENT
DTSTART;VALUE=DATE:20210115
DTEND;VALUE=DATE:20210116
UID:812171-20210115@calenda.revues.org
SUMMARY:La critique. Arts\, littérature\, théorie
URL:https://calenda-formation.labocleo.org/812171
DESCRIPTION:L’invention de la critique d’art par Diderot et son installation dans le paysage intellectuel par les  « professionnels »\, mais surtout par les écrivains et poètes du dix-neuvième siècle (on rappellera la place imminente de Baudelaire dans cette évol… Weitere Informationen https://calenda-formation.labocleo.org/812171
LOCATION:
END:VEVENT
END:VCALENDAR
