BEGIN:VCALENDAR
VERSION:2.0
PRODID:-//https://calenda-formation.labocleo.org
X-WR-CALNAME:Calenda
X-WR-TIMEZONE:Europe/Paris
CALSCALE:GREGORIAN
X-WR-CALDESC:O calendário de letras e de ciências sociais e humanas
METHOD:PUBLISH
BEGIN:VEVENT
DTSTART;VALUE=DATE:20201119
DTEND;VALUE=DATE:20201120
UID:812296-20201119@calenda.revues.org
SUMMARY:Publicité et transition écologique
URL:https://calenda-formation.labocleo.org/812296
DESCRIPTION:Depuis quelques mois\, la question des rapports entre publicité et transition écologique est au cœur de l’actualité et de l’attention médiatique. Au mois de juin 2020\, un collectif de vingt-cinq ONG a publié un rapport « Big Corpo » suivi d’un nouveau… @plus_info https://calenda-formation.labocleo.org/812296
LOCATION:Paris
END:VEVENT
END:VCALENDAR
