BEGIN:VCALENDAR
VERSION:2.0
PRODID:-//https://calenda-formation.labocleo.org
X-WR-CALNAME:Calenda
X-WR-TIMEZONE:Europe/Paris
CALSCALE:GREGORIAN
X-WR-CALDESC:The calendar for arts, humanities and social sciences
METHOD:PUBLISH
BEGIN:VEVENT
DTSTART;VALUE=DATE:20201231
DTEND;VALUE=DATE:20210101
UID:812721-20201231@calenda.revues.org
SUMMARY:Rives méditerranéennes journal - permanent call for papers
URL:https://calenda-formation.labocleo.org/812721
DESCRIPTION:Rives méditerranéennes accueille des dossiers thématiques proposés par un ou deux chercheurs qui en assurent la coordination. La revue est une publication thématique en sciences humaines\, plus particulièrement tournée vers la connaissance historique\,… @plus_info https://calenda-formation.labocleo.org/812721
LOCATION:
END:VEVENT
END:VCALENDAR
