BEGIN:VCALENDAR
VERSION:2.0
PRODID:-//https://calenda-formation.labocleo.org
X-WR-CALNAME:Calenda
X-WR-TIMEZONE:Europe/Paris
CALSCALE:GREGORIAN
X-WR-CALDESC:Le calendrier des lettres et sciences humaines et sociales
METHOD:PUBLISH
BEGIN:VEVENT
DTSTART;VALUE=DATE:20201103
DTEND;VALUE=DATE:20201104
UID:812791-20201103@calenda.revues.org
SUMMARY:Bâtir en pan de bois à la campagne et à la ville aux XIIIe-XVIIIe siècle
URL:https://calenda-formation.labocleo.org/812791
DESCRIPTION:Portant sur l’architecture rurale et urbaine en pan debois\, ce colloque réunira des chercheurs européens afin de croiser les réflexions sur de nombreuses thématiques : approvisionnement des chantiers et économie de laconstruction\, modes d’habitation\,… Más informaciones https://calenda-formation.labocleo.org/812791
LOCATION:París
END:VEVENT
BEGIN:VEVENT
DTSTART;VALUE=DATE:20201104
DTEND;VALUE=DATE:20201105
UID:812791-20201104@calenda.revues.org
SUMMARY:Bâtir en pan de bois à la campagne et à la ville aux XIIIe-XVIIIe siècle
URL:https://calenda-formation.labocleo.org/812791
DESCRIPTION:Portant sur l’architecture rurale et urbaine en pan debois\, ce colloque réunira des chercheurs européens afin de croiser les réflexions sur de nombreuses thématiques : approvisionnement des chantiers et économie de laconstruction\, modes d’habitation\,… Más informaciones https://calenda-formation.labocleo.org/812791
LOCATION:París
END:VEVENT
END:VCALENDAR
