BEGIN:VCALENDAR
VERSION:2.0
PRODID:-//https://calenda-formation.labocleo.org
X-WR-CALNAME:Calenda
X-WR-TIMEZONE:Europe/Paris
CALSCALE:GREGORIAN
X-WR-CALDESC:The calendar for arts, humanities and social sciences
METHOD:PUBLISH
BEGIN:VEVENT
DTSTART;VALUE=DATE:20201210
DTEND;VALUE=DATE:20201211
UID:812936-20201210@calenda.revues.org
SUMMARY:LGBTQIA+ sexualities: subjectivities\, movements\, languages
URL:https://calenda-formation.labocleo.org/812936
DESCRIPTION:LGBTQIA+ studies for contemporary history\, having produced a vast amount of researches\, are still questioning history and historiography: how can LGBTQIA+ history be written? Does it merely overlap with the history of LGBTQIA+ subjectivities or does … @plus_info https://calenda-formation.labocleo.org/812936
LOCATION:
END:VEVENT
END:VCALENDAR
