BEGIN:VCALENDAR
VERSION:2.0
PRODID:-//https://calenda-formation.labocleo.org
X-WR-CALNAME:Calenda
X-WR-TIMEZONE:Europe/Paris
CALSCALE:GREGORIAN
X-WR-CALDESC:The calendar for arts, humanities and social sciences
METHOD:PUBLISH
BEGIN:VEVENT
DTSTART;VALUE=DATE:20210115
DTEND;VALUE=DATE:20210116
UID:813266-20210115@calenda.revues.org
SUMMARY: Beyond Borders - Borders\, Democracy and Security
URL:https://calenda-formation.labocleo.org/813266
DESCRIPTION:Beyond borders supports research about borders and boundaries in past and present times. It promotes interdisciplinary exchange in the social sciences and humanities. The Call for Applications 2020 is open till January 15\, 2021 and focuses on “Border… @plus_info https://calenda-formation.labocleo.org/813266
LOCATION:
END:VEVENT
END:VCALENDAR
