BEGIN:VCALENDAR
VERSION:2.0
PRODID:-//https://calenda-formation.labocleo.org
X-WR-CALNAME:Calenda
X-WR-TIMEZONE:Europe/Paris
CALSCALE:GREGORIAN
X-WR-CALDESC:Le calendrier des lettres et sciences humaines et sociales
METHOD:PUBLISH
BEGIN:VEVENT
DTSTART;VALUE=DATE:20201211
DTEND;VALUE=DATE:20201212
UID:815507-20201211@calenda.revues.org
SUMMARY:Post-doctorat sur l’outil de la prospective face aux défis socio-environnementaux en Méditerranée
URL:https://calenda-formation.labocleo.org/815507
DESCRIPTION:Que ce soit dans les domaines à enjeux environnementaux comme le climat\, l’énergie\, la biodiversité ou l’eau\, ou dans les domaines de la démographie\, de l’immigration ou de l’éducation\, le bassin méditerranéen se révèle un territoire particulièrement… Weitere Informationen https://calenda-formation.labocleo.org/815507
LOCATION:Aix-en-Provence\, Marseille
END:VEVENT
END:VCALENDAR
