BEGIN:VCALENDAR
VERSION:2.0
PRODID:-//https://calenda-formation.labocleo.org
X-WR-CALNAME:Calenda
X-WR-TIMEZONE:Europe/Paris
CALSCALE:GREGORIAN
X-WR-CALDESC:Le calendrier des lettres et sciences humaines et sociales
METHOD:PUBLISH
BEGIN:VEVENT
DTSTART;VALUE=DATE:20201120
DTEND;VALUE=DATE:20201121
UID:815917-20201120@calenda.revues.org
SUMMARY:À la recherche des commencements
URL:https://calenda-formation.labocleo.org/815917
DESCRIPTION:Le crépuscule de l’année 2020 voit l’aube d’une nouvelle revue de littérature générale et comparée\, Méditations Littéraires. Revue internationale\, plurilingue et interdisciplinaire\, Méditations Littéraires entend offrir un espace d’expression ouvert … @plus_info https://calenda-formation.labocleo.org/815917
LOCATION:Oujda
END:VEVENT
END:VCALENDAR
