BEGIN:VCALENDAR
VERSION:2.0
PRODID:-//https://calenda-formation.labocleo.org
X-WR-CALNAME:Calenda
X-WR-TIMEZONE:Europe/Paris
CALSCALE:GREGORIAN
X-WR-CALDESC:Le calendrier des lettres et sciences humaines et sociales
METHOD:PUBLISH
BEGIN:VEVENT
DTSTART;VALUE=DATE:20210130
DTEND;VALUE=DATE:20210131
UID:816761-20210130@calenda.revues.org
SUMMARY:Eurasian challenges to international economic law after Brexit and in the COVID-context
URL:https://calenda-formation.labocleo.org/816761
DESCRIPTION:In a broader perspective than that\, strictly\, of international business law or even of international trade law\, this 5th international conference in the Kazakh-Franco-Korean series\, aims to mobilise analyses drawing from legal sciences and the social… @plus_info https://calenda-formation.labocleo.org/816761
LOCATION:Le Havre
END:VEVENT
END:VCALENDAR
