BEGIN:VCALENDAR
VERSION:2.0
PRODID:-//https://calenda-formation.labocleo.org
X-WR-CALNAME:Calenda
X-WR-TIMEZONE:Europe/Paris
CALSCALE:GREGORIAN
X-WR-CALDESC:The calendar for arts, humanities and social sciences
METHOD:PUBLISH
BEGIN:VEVENT
DTSTART;VALUE=DATE:20201119
DTEND;VALUE=DATE:20201120
UID:818521-20201119@calenda.revues.org
SUMMARY:Can We Learn Democracy?
URL:https://calenda-formation.labocleo.org/818521
DESCRIPTION:By adopting an interdisciplinary and transnational perspective\, we seek to decompartmentalize the different approaches to citizenship education\, which are crossed by recurring questions: How to articulate the individual and the collective? How can ci… @plus_info https://calenda-formation.labocleo.org/818521
LOCATION:Paris 03 Temple
END:VEVENT
BEGIN:VEVENT
DTSTART;VALUE=DATE:20201123
DTEND;VALUE=DATE:20201124
UID:818521-20201123@calenda.revues.org
SUMMARY:Can We Learn Democracy?
URL:https://calenda-formation.labocleo.org/818521
DESCRIPTION:By adopting an interdisciplinary and transnational perspective\, we seek to decompartmentalize the different approaches to citizenship education\, which are crossed by recurring questions: How to articulate the individual and the collective? How can ci… @plus_info https://calenda-formation.labocleo.org/818521
LOCATION:Paris 03 Temple
END:VEVENT
END:VCALENDAR
