BEGIN:VCALENDAR
VERSION:2.0
PRODID:-//https://calenda-formation.labocleo.org
X-WR-CALNAME:Calenda
X-WR-TIMEZONE:Europe/Paris
CALSCALE:GREGORIAN
X-WR-CALDESC:The calendar for arts, humanities and social sciences
METHOD:PUBLISH
BEGIN:VEVENT
DTSTART;VALUE=DATE:20201216
DTEND;VALUE=DATE:20201217
UID:818662-20201216@calenda.revues.org
SUMMARY:Critical seminar
URL:https://calenda-formation.labocleo.org/818662
DESCRIPTION:Ce séminaire critique est consacré à l'actualité de la recherche (Orléans\, en distanciel). … @plus_info https://calenda-formation.labocleo.org/818662
LOCATION:
END:VEVENT
BEGIN:VEVENT
DTSTART;VALUE=DATE:20201118
DTEND;VALUE=DATE:20201119
UID:818662-20201118@calenda.revues.org
SUMMARY:Critical seminar
URL:https://calenda-formation.labocleo.org/818662
DESCRIPTION:Ce séminaire critique est consacré à l'actualité de la recherche (Orléans\, en distanciel). … @plus_info https://calenda-formation.labocleo.org/818662
LOCATION:
END:VEVENT
BEGIN:VEVENT
DTSTART;VALUE=DATE:20210127
DTEND;VALUE=DATE:20210128
UID:818662-20210127@calenda.revues.org
SUMMARY:Critical seminar
URL:https://calenda-formation.labocleo.org/818662
DESCRIPTION:Ce séminaire critique est consacré à l'actualité de la recherche (Orléans\, en distanciel). … @plus_info https://calenda-formation.labocleo.org/818662
LOCATION:
END:VEVENT
BEGIN:VEVENT
DTSTART;VALUE=DATE:20210217
DTEND;VALUE=DATE:20210218
UID:818662-20210217@calenda.revues.org
SUMMARY:Critical seminar
URL:https://calenda-formation.labocleo.org/818662
DESCRIPTION:Ce séminaire critique est consacré à l'actualité de la recherche (Orléans\, en distanciel). … @plus_info https://calenda-formation.labocleo.org/818662
LOCATION:
END:VEVENT
BEGIN:VEVENT
DTSTART;VALUE=DATE:20210317
DTEND;VALUE=DATE:20210318
UID:818662-20210317@calenda.revues.org
SUMMARY:Critical seminar
URL:https://calenda-formation.labocleo.org/818662
DESCRIPTION:Ce séminaire critique est consacré à l'actualité de la recherche (Orléans\, en distanciel). … @plus_info https://calenda-formation.labocleo.org/818662
LOCATION:
END:VEVENT
BEGIN:VEVENT
DTSTART;VALUE=DATE:20210407
DTEND;VALUE=DATE:20210408
UID:818662-20210407@calenda.revues.org
SUMMARY:Critical seminar
URL:https://calenda-formation.labocleo.org/818662
DESCRIPTION:Ce séminaire critique est consacré à l'actualité de la recherche (Orléans\, en distanciel). … @plus_info https://calenda-formation.labocleo.org/818662
LOCATION:
END:VEVENT
END:VCALENDAR
