BEGIN:VCALENDAR
VERSION:2.0
PRODID:-//https://calenda-formation.labocleo.org
X-WR-CALNAME:Calenda
X-WR-TIMEZONE:Europe/Paris
CALSCALE:GREGORIAN
X-WR-CALDESC:Le calendrier des lettres et sciences humaines et sociales
METHOD:PUBLISH
BEGIN:VEVENT
DTSTART;VALUE=DATE:20210215
DTEND;VALUE=DATE:20210216
UID:818736-20210215@calenda.revues.org
SUMMARY:Ubérisation et santé des travailleurs : analyses pluridisciplinaires du travail de livreur
URL:https://calenda-formation.labocleo.org/818736
DESCRIPTION:Le marché de la livraison de repas à domicile a connu un essor important entre 2013 et 2015 en France\, avec l’apparition de nombreuses entreprises concurrentes\, et provoqué la massification et la concentration de livreurs dans des structures économiq… Weitere Informationen https://calenda-formation.labocleo.org/818736
LOCATION:
END:VEVENT
END:VCALENDAR
