BEGIN:VCALENDAR
VERSION:2.0
PRODID:-//https://calenda-formation.labocleo.org
X-WR-CALNAME:Calenda
X-WR-TIMEZONE:Europe/Paris
CALSCALE:GREGORIAN
X-WR-CALDESC:O calendário de letras e de ciências sociais e humanas
METHOD:PUBLISH
BEGIN:VEVENT
DTSTART;VALUE=DATE:20201210
DTEND;VALUE=DATE:20201211
UID:820442-20201210@calenda.revues.org
SUMMARY:Crises et nouveaux prophètes
URL:https://calenda-formation.labocleo.org/820442
DESCRIPTION:L’objectif de ce colloque est de réfléchir à la parole prophétique\, ses conditions d’énonciation\, ses modes de réception et ses effets transformateurs sur les sociétés. Cette manifestation scientifique survient dans un contexte marqué par une success… @plus_info https://calenda-formation.labocleo.org/820442
LOCATION:
END:VEVENT
BEGIN:VEVENT
DTSTART;VALUE=DATE:20201211
DTEND;VALUE=DATE:20201212
UID:820442-20201211@calenda.revues.org
SUMMARY:Crises et nouveaux prophètes
URL:https://calenda-formation.labocleo.org/820442
DESCRIPTION:L’objectif de ce colloque est de réfléchir à la parole prophétique\, ses conditions d’énonciation\, ses modes de réception et ses effets transformateurs sur les sociétés. Cette manifestation scientifique survient dans un contexte marqué par une success… @plus_info https://calenda-formation.labocleo.org/820442
LOCATION:
END:VEVENT
END:VCALENDAR
