BEGIN:VCALENDAR
VERSION:2.0
PRODID:-//https://calenda-formation.labocleo.org
X-WR-CALNAME:Calenda
X-WR-TIMEZONE:Europe/Paris
CALSCALE:GREGORIAN
X-WR-CALDESC:O calendário de letras e de ciências sociais e humanas
METHOD:PUBLISH
BEGIN:VEVENT
DTSTART;VALUE=DATE:20201201
DTEND;VALUE=DATE:20201202
UID:821361-20201201@calenda.revues.org
SUMMARY:La plastique dans la mise en œuvre des matériaux
URL:https://calenda-formation.labocleo.org/821361
DESCRIPTION:Dans le premier événement intitulé « La plastique dans la conception architecturale » nous nous sommes intéressés aux différents facteurs pouvant influencer la conception architecturale. Ce nouveau colloque qui s'inscrit dans la continuité du précéde… @plus_info https://calenda-formation.labocleo.org/821361
LOCATION:Estrasburgo
END:VEVENT
END:VCALENDAR
