BEGIN:VCALENDAR
VERSION:2.0
PRODID:-//https://calenda-formation.labocleo.org
X-WR-CALNAME:Calenda
X-WR-TIMEZONE:Europe/Paris
CALSCALE:GREGORIAN
X-WR-CALDESC:Le calendrier des lettres et sciences humaines et sociales
METHOD:PUBLISH
BEGIN:VEVENT
DTSTART;VALUE=DATE:20201210
DTEND;VALUE=DATE:20201211
UID:822262-20201210@calenda.revues.org
SUMMARY:New horizons. How to renew the humanities (HFC-HOR 2020) 
URL:https://calenda-formation.labocleo.org/822262
DESCRIPTION:How does philological practice change in the digital age? How can the potential of information technology be applied to the study of literary texts? What is the role played by large text databases in literary criticism and how can they be effectively… Más informaciones https://calenda-formation.labocleo.org/822262
LOCATION:
END:VEVENT
BEGIN:VEVENT
DTSTART;VALUE=DATE:20201211
DTEND;VALUE=DATE:20201212
UID:822262-20201211@calenda.revues.org
SUMMARY:New horizons. How to renew the humanities (HFC-HOR 2020) 
URL:https://calenda-formation.labocleo.org/822262
DESCRIPTION:How does philological practice change in the digital age? How can the potential of information technology be applied to the study of literary texts? What is the role played by large text databases in literary criticism and how can they be effectively… Más informaciones https://calenda-formation.labocleo.org/822262
LOCATION:
END:VEVENT
BEGIN:VEVENT
DTSTART;VALUE=DATE:20201110
DTEND;VALUE=DATE:20201111
UID:822262-20201110@calenda.revues.org
SUMMARY:New horizons. How to renew the humanities (HFC-HOR 2020) 
URL:https://calenda-formation.labocleo.org/822262
DESCRIPTION:How does philological practice change in the digital age? How can the potential of information technology be applied to the study of literary texts? What is the role played by large text databases in literary criticism and how can they be effectively… Más informaciones https://calenda-formation.labocleo.org/822262
LOCATION:
END:VEVENT
BEGIN:VEVENT
DTSTART;VALUE=DATE:20201124
DTEND;VALUE=DATE:20201125
UID:822262-20201124@calenda.revues.org
SUMMARY:New horizons. How to renew the humanities (HFC-HOR 2020) 
URL:https://calenda-formation.labocleo.org/822262
DESCRIPTION:How does philological practice change in the digital age? How can the potential of information technology be applied to the study of literary texts? What is the role played by large text databases in literary criticism and how can they be effectively… Más informaciones https://calenda-formation.labocleo.org/822262
LOCATION:
END:VEVENT
END:VCALENDAR
