BEGIN:VCALENDAR
VERSION:2.0
PRODID:-//https://calenda-formation.labocleo.org
X-WR-CALNAME:Calenda
X-WR-TIMEZONE:Europe/Paris
CALSCALE:GREGORIAN
X-WR-CALDESC:The calendar for arts, humanities and social sciences
METHOD:PUBLISH
BEGIN:VEVENT
DTSTART;VALUE=DATE:20201203
DTEND;VALUE=DATE:20201204
UID:822361-20201203@calenda.revues.org
SUMMARY:Greek tragedy in universities in Japan and France
URL:https://calenda-formation.labocleo.org/822361
DESCRIPTION:Sur la base de documents d’archives japonais et français\, cette rencontre en vidéoconférence confrontera deux expériences de théâtre universitaire qui ont marqué l’histoire de la mise en scène de la tragédie grecque au vingtième siècle : le Club de T… @plus_info https://calenda-formation.labocleo.org/822361
LOCATION:Paris 13 Gobelins
END:VEVENT
END:VCALENDAR
