BEGIN:VCALENDAR
VERSION:2.0
PRODID:-//https://calenda-formation.labocleo.org
X-WR-CALNAME:Calenda
X-WR-TIMEZONE:Europe/Paris
CALSCALE:GREGORIAN
X-WR-CALDESC:Le calendrier des lettres et sciences humaines et sociales
METHOD:PUBLISH
BEGIN:VEVENT
DTSTART;VALUE=DATE:20210331
DTEND;VALUE=DATE:20210401
UID:822477-20210331@calenda.revues.org
SUMMARY:Revue « Quaderna » – rubrique « Comptes rendus de colloques »
URL:https://calenda-formation.labocleo.org/822477
DESCRIPTION:La revue Quaderna souhaite reposer des questions au croisement des disciplines et des aires culturelles en faisant appel à des contributions d’universitaires et d’artistes\, d’écrivains\, de musiciens… Parce que penser au point de rencontre des langues… Weitere Informationen https://calenda-formation.labocleo.org/822477
LOCATION:
END:VEVENT
END:VCALENDAR
