BEGIN:VCALENDAR
VERSION:2.0
PRODID:-//https://calenda-formation.labocleo.org
X-WR-CALNAME:Calenda
X-WR-TIMEZONE:Europe/Paris
CALSCALE:GREGORIAN
X-WR-CALDESC:Le calendrier des lettres et sciences humaines et sociales
METHOD:PUBLISH
BEGIN:VEVENT
DTSTART;VALUE=DATE:20201218
DTEND;VALUE=DATE:20201219
UID:823036-20201218@calenda.revues.org
SUMMARY:Enfance\, jeunesse\, éducation et migrations - ATER
URL:https://calenda-formation.labocleo.org/823036
DESCRIPTION:La personne recrutée interviendra dans différentes formations de l'Institut national supérieur de formation et de recherche pour l'éducation des jeunes handicapés et les enseignements adaptés (INSHEA). Elle assurera aussi des enseignements en méthodo… @plus_info https://calenda-formation.labocleo.org/823036
LOCATION:Suresnes
END:VEVENT
END:VCALENDAR
