BEGIN:VCALENDAR
VERSION:2.0
PRODID:-//https://calenda-formation.labocleo.org
X-WR-CALNAME:Calenda
X-WR-TIMEZONE:Europe/Paris
CALSCALE:GREGORIAN
X-WR-CALDESC:The calendar for arts, humanities and social sciences
METHOD:PUBLISH
BEGIN:VEVENT
DTSTART;VALUE=DATE:20201109
DTEND;VALUE=DATE:20201110
UID:823676-20201109@calenda.revues.org
SUMMARY:Noms de dieux !
URL:https://calenda-formation.labocleo.org/823676
DESCRIPTION:The ERC MAP Seminar “The Names of the Gods! 5: Who named the gods? Utterers\, addressers\, ritual agents” pursues the investigation on the systems of naming of the divine. This year\, it focuses on the human agents in the process of naming the divine\, w… @plus_info https://calenda-formation.labocleo.org/823676
LOCATION:Toulouse
END:VEVENT
BEGIN:VEVENT
DTSTART;VALUE=DATE:20201214
DTEND;VALUE=DATE:20201215
UID:823676-20201214@calenda.revues.org
SUMMARY:Noms de dieux !
URL:https://calenda-formation.labocleo.org/823676
DESCRIPTION:The ERC MAP Seminar “The Names of the Gods! 5: Who named the gods? Utterers\, addressers\, ritual agents” pursues the investigation on the systems of naming of the divine. This year\, it focuses on the human agents in the process of naming the divine\, w… @plus_info https://calenda-formation.labocleo.org/823676
LOCATION:Toulouse
END:VEVENT
BEGIN:VEVENT
DTSTART;VALUE=DATE:20210111
DTEND;VALUE=DATE:20210112
UID:823676-20210111@calenda.revues.org
SUMMARY:Noms de dieux !
URL:https://calenda-formation.labocleo.org/823676
DESCRIPTION:The ERC MAP Seminar “The Names of the Gods! 5: Who named the gods? Utterers\, addressers\, ritual agents” pursues the investigation on the systems of naming of the divine. This year\, it focuses on the human agents in the process of naming the divine\, w… @plus_info https://calenda-formation.labocleo.org/823676
LOCATION:Toulouse
END:VEVENT
BEGIN:VEVENT
DTSTART;VALUE=DATE:20210308
DTEND;VALUE=DATE:20210309
UID:823676-20210308@calenda.revues.org
SUMMARY:Noms de dieux !
URL:https://calenda-formation.labocleo.org/823676
DESCRIPTION:The ERC MAP Seminar “The Names of the Gods! 5: Who named the gods? Utterers\, addressers\, ritual agents” pursues the investigation on the systems of naming of the divine. This year\, it focuses on the human agents in the process of naming the divine\, w… @plus_info https://calenda-formation.labocleo.org/823676
LOCATION:Toulouse
END:VEVENT
BEGIN:VEVENT
DTSTART;VALUE=DATE:20210412
DTEND;VALUE=DATE:20210413
UID:823676-20210412@calenda.revues.org
SUMMARY:Noms de dieux !
URL:https://calenda-formation.labocleo.org/823676
DESCRIPTION:The ERC MAP Seminar “The Names of the Gods! 5: Who named the gods? Utterers\, addressers\, ritual agents” pursues the investigation on the systems of naming of the divine. This year\, it focuses on the human agents in the process of naming the divine\, w… @plus_info https://calenda-formation.labocleo.org/823676
LOCATION:Toulouse
END:VEVENT
BEGIN:VEVENT
DTSTART;VALUE=DATE:20210510
DTEND;VALUE=DATE:20210511
UID:823676-20210510@calenda.revues.org
SUMMARY:Noms de dieux !
URL:https://calenda-formation.labocleo.org/823676
DESCRIPTION:The ERC MAP Seminar “The Names of the Gods! 5: Who named the gods? Utterers\, addressers\, ritual agents” pursues the investigation on the systems of naming of the divine. This year\, it focuses on the human agents in the process of naming the divine\, w… @plus_info https://calenda-formation.labocleo.org/823676
LOCATION:Toulouse
END:VEVENT
END:VCALENDAR
