BEGIN:VCALENDAR
VERSION:2.0
PRODID:-//https://calenda-formation.labocleo.org
X-WR-CALNAME:Calenda
X-WR-TIMEZONE:Europe/Paris
CALSCALE:GREGORIAN
X-WR-CALDESC:Le calendrier des lettres et sciences humaines et sociales
METHOD:PUBLISH
BEGIN:VEVENT
DTSTART;VALUE=DATE:20210501
DTEND;VALUE=DATE:20210502
UID:829201-20210501@calenda.revues.org
SUMMARY:XVIIe congrès international des slavistes
URL:https://calenda-formation.labocleo.org/829201
DESCRIPTION:Le XVIIe congrès international des slavistes se tiendra à Paris\, au Centre Malesherbes de Sorbonne Université du 28 août au 1er septembre 2023. Ce congrès\, qui réunit tous les cinq ans les slavistes du monde entier — spécialistes de langue\, littératu… Weitere Informationen https://calenda-formation.labocleo.org/829201
LOCATION:Paris
END:VEVENT
END:VCALENDAR
