BEGIN:VCALENDAR
VERSION:2.0
PRODID:-//https://calenda-formation.labocleo.org
X-WR-CALNAME:Calenda
X-WR-TIMEZONE:Europe/Paris
CALSCALE:GREGORIAN
X-WR-CALDESC:The calendar for arts, humanities and social sciences
METHOD:PUBLISH
BEGIN:VEVENT
DTSTART;VALUE=DATE:20210402
DTEND;VALUE=DATE:20210403
UID:829872-20210402@calenda.revues.org
SUMMARY:Supply Chain 4.0\, organisational\, social and society issues
URL:https://calenda-formation.labocleo.org/829872
DESCRIPTION:La revue scientifique Management & Datascience lance un appel à contributions concernant la supply chain 4.0 et ses enjeux organisationnels\, sociaux et sociétaux tels que des pratiques plus durables\, une recomposition des collaborations ou une évolut… @plus_info https://calenda-formation.labocleo.org/829872
LOCATION:
END:VEVENT
END:VCALENDAR
