BEGIN:VCALENDAR
VERSION:2.0
PRODID:-//https://calenda-formation.labocleo.org
X-WR-CALNAME:Calenda
X-WR-TIMEZONE:Europe/Paris
CALSCALE:GREGORIAN
X-WR-CALDESC:Le calendrier des lettres et sciences humaines et sociales
METHOD:PUBLISH
BEGIN:VEVENT
DTSTART;VALUE=DATE:20210315
DTEND;VALUE=DATE:20210316
UID:830652-20210315@calenda.revues.org
SUMMARY:Revue « Action didactique » — Varia
URL:https://calenda-formation.labocleo.org/830652
DESCRIPTION:La revue Action Didactique lance un appel à contribution pour son huitième numéro (varia) qui paraîtra en juin 2021. Action Didactique est une revue scientifique internationale\, d’expression française\, essentiellement consacrée à l’enseignement/appre… @plus_info https://calenda-formation.labocleo.org/830652
LOCATION:Béjaïa
END:VEVENT
END:VCALENDAR
