BEGIN:VCALENDAR
VERSION:2.0
PRODID:-//https://calenda-formation.labocleo.org
X-WR-CALNAME:Calenda
X-WR-TIMEZONE:Europe/Paris
CALSCALE:GREGORIAN
X-WR-CALDESC:Le calendrier des lettres et sciences humaines et sociales
METHOD:PUBLISH
BEGIN:VEVENT
DTSTART;VALUE=DATE:20210515
DTEND;VALUE=DATE:20210516
UID:831771-20210515@calenda.revues.org
SUMMARY:Le genre de la guerre froide
URL:https://calenda-formation.labocleo.org/831771
DESCRIPTION:Période historique et situation géopolitique définies par la confrontation entre les États-Unis et l’URSS\, voire le capitalisme et socialisme en tant qu’idéologies\, systèmes politiques et modes d’organisation des États\, la guerre froide s’est étendue… @plus_info https://calenda-formation.labocleo.org/831771
LOCATION:
END:VEVENT
END:VCALENDAR
