BEGIN:VCALENDAR
VERSION:2.0
PRODID:-//https://calenda-formation.labocleo.org
X-WR-CALNAME:Calenda
X-WR-TIMEZONE:Europe/Paris
CALSCALE:GREGORIAN
X-WR-CALDESC:Le calendrier des lettres et sciences humaines et sociales
METHOD:PUBLISH
BEGIN:VEVENT
DTSTART;VALUE=DATE:20210330
DTEND;VALUE=DATE:20210331
UID:835920-20210330@calenda.revues.org
SUMMARY:La Caraïbe face au covid19 : crise globale et solutions locales
URL:https://calenda-formation.labocleo.org/835920
DESCRIPTION:Officiellement touchée par la pandémie de COVID19 dès les premiers jours du mois de mars 2020\, la Caraïbe inquiète en raison de la fragilité de son tissu social et des grandes disparités entre les politiques de santé publique d’un État à l’autre qui … Weitere Informationen https://calenda-formation.labocleo.org/835920
LOCATION:
END:VEVENT
END:VCALENDAR
