BEGIN:VCALENDAR
VERSION:2.0
PRODID:-//https://calenda-formation.labocleo.org
X-WR-CALNAME:Calenda
X-WR-TIMEZONE:Europe/Paris
CALSCALE:GREGORIAN
X-WR-CALDESC:The calendar for arts, humanities and social sciences
METHOD:PUBLISH
BEGIN:VEVENT
DTSTART;VALUE=DATE:20210228
DTEND;VALUE=DATE:20210301
UID:836270-20210228@calenda.revues.org
SUMMARY:The Dynamics of Ritual and Embodiment in Contemporary Religion and Spirituality
URL:https://calenda-formation.labocleo.org/836270
DESCRIPTION:Within the framework of International Society for the Sociology of Religion 36th Conference (12 July - 15 July 2021)\, this panel aims to explore and discuss methodological and theoretical issues related to ethnographic research on sensory and bodily … @plus_info https://calenda-formation.labocleo.org/836270
LOCATION:
END:VEVENT
END:VCALENDAR
