BEGIN:VCALENDAR
VERSION:2.0
PRODID:-//https://calenda-formation.labocleo.org
X-WR-CALNAME:Calenda
X-WR-TIMEZONE:Europe/Paris
CALSCALE:GREGORIAN
X-WR-CALDESC:The calendar for arts, humanities and social sciences
METHOD:PUBLISH
BEGIN:VEVENT
DTSTART;VALUE=DATE:20210228
DTEND;VALUE=DATE:20210301
UID:840410-20210228@calenda.revues.org
SUMMARY:L’espace économique francophone : concepts\, réalités et perspectives
URL:https://calenda-formation.labocleo.org/840410
DESCRIPTION:L’adoption de la stratégie économique de la francophonie (2020-2025) est l’occasion de proposer un état des lieux sur les avancements réalisés jusque-là dans le domaine de la francophonie économique. Si les débats sur la « valeur économique de la lan… @plus_info https://calenda-formation.labocleo.org/840410
LOCATION:
END:VEVENT
END:VCALENDAR
