BEGIN:VCALENDAR
VERSION:2.0
PRODID:-//https://calenda-formation.labocleo.org
X-WR-CALNAME:Calenda
X-WR-TIMEZONE:Europe/Paris
CALSCALE:GREGORIAN
X-WR-CALDESC:O calendário de letras e de ciências sociais e humanas
METHOD:PUBLISH
BEGIN:VEVENT
DTSTART;VALUE=DATE:20210315
DTEND;VALUE=DATE:20210316
UID:841385-20210315@calenda.revues.org
SUMMARY:L’expérience\, moteur d’innovation pédagogique
URL:https://calenda-formation.labocleo.org/841385
DESCRIPTION:Le laboratoire de langage et de traitement automatique (LLTA)\, FLSH - université de Sfax\, lance un appel à contribution pour la publication d’un ouvrage collectif qui s’adresse à des chercheurs de différentes spécialités en sciences humaines et socia… @plus_info https://calenda-formation.labocleo.org/841385
LOCATION:
END:VEVENT
END:VCALENDAR
